BEGIN:VCALENDAR
VERSION:2.0
PRODID:-//SVFK - ECPv6.3.6//NONSGML v1.0//EN
CALSCALE:GREGORIAN
METHOD:PUBLISH
X-WR-CALNAME:SVFK
X-ORIGINAL-URL:https://svfk.dk
X-WR-CALDESC:Begivenheder for SVFK
REFRESH-INTERVAL;VALUE=DURATION:PT1H
X-Robots-Tag:noindex
X-PUBLISHED-TTL:PT1H
BEGIN:VTIMEZONE
TZID:Europe/Copenhagen
BEGIN:DAYLIGHT
TZOFFSETFROM:+0100
TZOFFSETTO:+0200
TZNAME:CEST
DTSTART:20260329T010000
END:DAYLIGHT
BEGIN:STANDARD
TZOFFSETFROM:+0200
TZOFFSETTO:+0100
TZNAME:CET
DTSTART:20261025T010000
END:STANDARD
END:VTIMEZONE
BEGIN:VEVENT
DTSTART;TZID=Europe/Copenhagen:20260508T150000
DTEND;TZID=Europe/Copenhagen:20260607T170000
DTSTAMP:20260423T222645
CREATED:20260414T134029Z
LAST-MODIFIED:20260422T102701Z
UID:57814-1778252400-1780851600@svfk.dk
SUMMARY:Udstilling Foyer: Therese Hald Boesen
DESCRIPTION:Corrosion of Matter\n8. maj – 7. juni 2026 \nMed Corrosion of Matter udforsker Therese Hald Boesen det visuelle og materielle potentiale i patinering og naturlig forvitring. Gennem direkte tryk af patinerede zinkplader fremhæver hun de teksturer og transformationer\, der formes af tid og oxidation\, og giver æstetisk og konceptuel værdi til det\, der normalt betragtes som forfald. \nI stedet for at modstå forandring omfavner Boesen forvitring som en proces\, der tilføjer dybde og hukommelse. Ved at lade patinaen styre trykket\, medvirker de naturlige processer til det endelige værk. \nHistorier om tid og transformation\nI værkerne bliver materialet et billede på tidsligheden og den fortælling\, der ligger indlejret i overfladen. Billedet fremstår som en lagdelt opbygning af de spor\, der registreres gennem zinkpladerne\, og materialet bliver en slags viden\, som rækker ud over sproget. Sporene opstår som et aftryk af de miljøpåvirkninger\, zinkpladerne har gennemgået og den efterfølgende bearbejdning. Det grafiske tryk er en metode til at afsløre det allerede eksisterende i overflader\, formet af natur og kultur. \nZinkpladernes spor af tid\, erosion og menneskelig udfoldelse er en indlejret tavs viden\, som udfoldes gennem materiale-eksperimenter. De naturlige processer tilbyder alternative måder at interagere med materialet på. På den måde spiller naturen en væsentlig rolle i den kunstneriske proces. \nPatineringens værdi\nPatineringen synliggør tidens gang og i Boesens tilgang bliver den materielle forandring over tid til en intelligens\, hun kan arbejde sammen med. Denne værdi og iboende kvalitet ved patinering og forvitring undersøger hun gennem grafiske tryk. \nBoesen omsætter naturlige processer til visuelle udtryk\, der synliggør forholdet mellem menneskeskabte materialer og naturens kræfter. Således undersøger hun\, hvordan teksturer\, taktile overflader og tilstande af sammenbrud kan stimulere vores hukommelse og skabe opmærksomhed omkring bæredygtighed. \nFernisering 8. maj 2026\, kl. 15.00 – 17.00 i Strandgade 27B\, 1401 København K \n– \nOm kunstneren\nTherese Hald Boesen er uddannet designer fra Det Kongelige Akademi i 2021. Hun arbejder i krydsfeltet mellem rumdesign\, kunstnerisk praksis og kommunikation med særligt fokus på materialitet\, sanselige oplevelser og stedsspecifik fortælling. \nGennem grafiske eksperimenter undersøger hun materialers sanselige kvaliteter som måder at forstå tid og kulturel kontekst. \nBoesens værker udspringer af en materialeundersøgende tilgang\, der kombinerer teori og praksis. Hun skaber kunstneriske udtryk og inviterer til refleksion over\, hvordan det processuelle kan sammenkobles med sansning og bæredygtighed. \nFoto: Anders Nyberg 
URL:https://svfk.dk/event/udstilling-foyer-therese-hald-boesen
LOCATION:Statens Værksteder for Kunst\, Strandgade 27B\, København K\, 1401\, Danmark
CATEGORIES:Event,Event,FOYER,FOYER_en
ATTACH;FMTTYPE=image/jpeg:https://svfk.dk/wp-content/uploads/2023/03/1_-scaled.jpg
END:VEVENT
END:VCALENDAR