BEGIN:VCALENDAR
VERSION:2.0
PRODID:-//SVFK - ECPv6.3.6//NONSGML v1.0//EN
CALSCALE:GREGORIAN
METHOD:PUBLISH
X-ORIGINAL-URL:https://svfk.dk
X-WR-CALDESC:Begivenheder for SVFK
REFRESH-INTERVAL;VALUE=DURATION:PT1H
X-Robots-Tag:noindex
X-PUBLISHED-TTL:PT1H
BEGIN:VTIMEZONE
TZID:Europe/Copenhagen
BEGIN:DAYLIGHT
TZOFFSETFROM:+0100
TZOFFSETTO:+0200
TZNAME:CEST
DTSTART:20260329T010000
END:DAYLIGHT
BEGIN:STANDARD
TZOFFSETFROM:+0200
TZOFFSETTO:+0100
TZNAME:CET
DTSTART:20261025T010000
END:STANDARD
END:VTIMEZONE
BEGIN:VEVENT
DTSTART;TZID=Europe/Copenhagen:20260109T150000
DTEND;TZID=Europe/Copenhagen:20260208T170000
DTSTAMP:20260423T210001
CREATED:20251210T132213Z
LAST-MODIFIED:20251211T085355Z
UID:56334-1767970800-1770570000@svfk.dk
SUMMARY:Udstilling Foyer: Felia Gram-Hanssen
DESCRIPTION:Vibro Shape\n9. januar – 8. februar 2026 \nFelia Gram-Hanssen inviterer publikum ind i naturens skjulte symfoni. Med værket Vibro Shape har hun udforsket insekters kommunikation via vibrationer\, som ellers er uhørlige for det menneskelige øre. I værket oversættes disse skjulte og flygtige lydlandskaber til en håndgribelig form. \nVibrationernes nye udtryk vækker en fornemmelse af lyd og bevægelse og inviterer publikum til at lytte med øjnene og se med ørerne. \nAlle levende væsner\, inklusive mennesker\, har deres egen unikke svingningsfrekvens. Det er en grundlæggende del af vores eksistens og forbinder os med vores omgivelser. \nI værket bruger Felia metaller i sin visuelle bearbejdelse. En messingplade brydes af en syreholdig overfladebehandling\, der bringer tekstur og farve til materialet. På pladen er der graveret et visuelt udslag fra insekternes vibrationer\, som bringer den rene messing i spil. \nStål er basen for den fritsvævende skulptur midt i rummet. Den bevæger sig rundt om sin egen akse\, påvirket af de givne vibrationer fra rummet. Tilsammen undersøger værkerne uhørlige strømninger i vores omgivelser\, der belyser komplekse aktiviteter og stiller spørgsmål om slægtskab på tværs af arter. \nLydene i udstillingen er af treehoppers og optaget af biolog Dr. Rex Cocroft. \nFernisering\, 9. januar 2026 kl. 15.00-17.00 i Strandgade 27B\, 1401 København K \n– \nOm kunstneren\nFelia Gram-Hanssen er uddannet fra Det Kongelige Danske Kunstakademi i 2015. Hendes kunstneriske praksis består af performance\, lyd- og videoinstallation.\n\nForholdet mellem billede\, krop og lyd undersøges ud fra deres gensidige påvirkning af hinanden. Som forlæg benyttes grafiske og skulpturelle partiturer\, der inddrages i performative forløb\, med lyd og bevægelse. \nI multidisciplinære samarbejder med koreografer\, musikere og scenekunstnere har Gram-Hanssen udstillet og opført performances i ind- og udland. Hendes arbejde søger at opnå en dybere forståelse af\, hvad lyd er for en størrelse og dens tætte relation til tegn og sprog.
URL:https://svfk.dk/event/udstilling-foyer-felia-gram-hanssen
LOCATION:Statens Værksteder for Kunst\, Strandgade 27B\, København K\, 1401\, Danmark
CATEGORIES:Event,Event,FOYER,FOYER_en
ATTACH;FMTTYPE=image/jpeg:https://svfk.dk/wp-content/uploads/2025/04/8_VibroShape-scaled.jpg
END:VEVENT
BEGIN:VEVENT
DTSTART;TZID=Europe/Copenhagen:20260213T090000
DTEND;TZID=Europe/Copenhagen:20260313T170000
DTSTAMP:20260423T210001
CREATED:20260119T133623Z
LAST-MODIFIED:20260119T133623Z
UID:56932-1770973200-1773421200@svfk.dk
SUMMARY:Udstilling Foyer: Marianne Johnstad-Møller
DESCRIPTION:Bevægelser af og til tang\n13. februar – 13. marts 2026 \n“At noget så smukt findes\, får mine sanser og alt i mig til at juble og fylder mig med taknemmelighed” \nTang er hverken plante eller blomst\, men en makroalge\, der lever og formerer sig på sin egen unikke facon. Med sin iltproduktion i verdenshavene danner den grundlag for alt liv på jorden. \nMarianne Johnstad-Møllers værker er inspireret af tangens særlige egenskaber og livsform. Igennem 3 år har hun indsamlet og fotograferet opskyllet tang mellem Løkken og Furreby i Danmark. Hun har researchet omkring tangens æstetik og væksthistorie og udforsket dens betydning for hav og mennesker. \nIgennem transparent strik udtrykker Marianne Johnstad-Møller sin fascination af tang og nærmer sig dens eksistens og udtryk både sanseligt og intellektuelt. Hun ser tangen i lag\, hvor farverne blander sig med hinanden og danner nye farvetoner\, som hun har brugt i indfarvningen af strikstykkerne. Strikken kommer således til at mime tangens teksturer og former; glinsende\, mat\, tynd og transparent. \nVed at arbejde med strikmaskernes størrelse skaber Marianne Johnstad-Møller overflader\, der bølger og bugter sig\, og ligesom tørret tang ruller strikken sig sammen i snoede former. Værket strækker sig opad på samme måde\, som tang vokser vildt under vand i en bølgende bevægelse mod lyset. \nFernisering: 13. februar 2026 kl. 15.00 – 17.00 i Strandgade 27B\, København K. \n– \nMarianne Johnstad-Møller arbejder både konkret og filosofisk med lag og transparens i værker skabt i strik. Hun er opvokset ved Vesterhavet\, og hendes værker tager ofte afsæt i havets liv og dets cykliske bevægelser. Hun stræber efter at forfine et sanseligt og taktilt udtryk\, der taler til og forbinder sanser\, intellekt og spiritualitet.  \nJohnstad-Møller er uddannet tekstildesigner med speciale i strik fra Det Kongelige Danske Kunstakademis Designskole i 2004.
URL:https://svfk.dk/event/udstilling-foyer-marianne-johnstad-moeller
LOCATION:Statens Værksteder for Kunst\, Strandgade 27B\, København K\, 1401\, Danmark
CATEGORIES:Event,Event,FOYER,FOYER_en
ATTACH;FMTTYPE=image/jpeg:https://svfk.dk/wp-content/uploads/2026/01/Johnstad_2_Foyerudstilling-scaled.jpg
END:VEVENT
END:VCALENDAR