BEGIN:VCALENDAR
VERSION:2.0
PRODID:-//SVFK - ECPv6.3.6//NONSGML v1.0//EN
CALSCALE:GREGORIAN
METHOD:PUBLISH
X-WR-CALNAME:SVFK
X-ORIGINAL-URL:https://svfk.dk
X-WR-CALDESC:Begivenheder for SVFK
REFRESH-INTERVAL;VALUE=DURATION:PT1H
X-Robots-Tag:noindex
X-PUBLISHED-TTL:PT1H
BEGIN:VTIMEZONE
TZID:Europe/Copenhagen
BEGIN:DAYLIGHT
TZOFFSETFROM:+0100
TZOFFSETTO:+0200
TZNAME:CEST
DTSTART:20250330T010000
END:DAYLIGHT
BEGIN:STANDARD
TZOFFSETFROM:+0200
TZOFFSETTO:+0100
TZNAME:CET
DTSTART:20251026T010000
END:STANDARD
END:VTIMEZONE
BEGIN:VEVENT
DTSTART;TZID=Europe/Copenhagen:20250815T150000
DTEND;TZID=Europe/Copenhagen:20250914T170000
DTSTAMP:20260426T050213
CREATED:20250811T124729Z
LAST-MODIFIED:20250814T102824Z
UID:55249-1755270000-1757869200@svfk.dk
SUMMARY:Udstilling Foyer: Begitte Lynge Andersen
DESCRIPTION:Homeland (golden edition)\n15. aug. – 14. sept. 2025 \n“Min kærlighed og mit sprog ligger i det tekstile felt\, fordi tekstil som materiale ofte er ladet med værdier og besidder en iboende fortælling\, som giver mig mulighed for at arbejde med erindringsspor i det kunstneriske”. \nDe fleste mennesker har en relation til tekstiler\, men den er ofte ubevidst\, ikke sproglig og sanselig. Begitte Lynges kunstneriske ærinde er at skabe værker\, hvor håndværksundersøgelser og processer sætter sig som sanselige aftryk\, der besnærer beskuerens egen oplevelse af sanselighed. Hendes bearbejdelse af hverdagens tekstiler skaber nye rum for refleksion og forundring og forbinder os til det\, vi ofte tager for givet eller slet ikke lægger mærke til i vores daglige gøremål. \nBegitte Lynges værker bearbejder de gængse fortællinger fra en hverdag\, vi alle kender; det praktiske\, det presserende og de stiltiende nødvendigheder og gentagelser. Metoderne er typisk den trykte\, serigrafiske proces i kombination med atypiske teknikker og nøje udvalgte materialer. Hun kombinerer grafik\, skulptur\, fotografi og tekstilt kunsthåndværk i sine værker\, og med konceptuelle greb sidestiller hun den reflekterende tankeverden med det\, der er kropsligt og intuitivt. \nTil udstillingen Homeland har Begitte Lynge arbejdet med serigrafiske 1:1 gengivelser af brugte\, hjemlige tekstiler\, genoptrykt i guld i tekstiltrykværkstedet på Statens Værksteder for Kunst. \nFernisering i Foyer: Fredag d. 15. august 2025 kl. 15.00 – 17.00 i Strandgade 27B på Christianshavn. \n– \nBegitte Lynge Andersen er født i Australien i 1969 og opvokset i Thy. Hun er uddannet tekstiltrykker\, institut for Unika\, på Designskolen Kolding og linjen for Interaktivt Design\, Institut for Visuel Kommunikation. Hun er medlem af BKF\, KKArt\, KKS\, FGV og CPS (California Society of Printmaking\, Californien\, USA) og underviser i serigrafi. Hendes arbejde er optaget i bogen\, “Dansk Tekstilkunst 2008-2018”.
URL:https://svfk.dk/event/udstilling-foyer-begitte-lynge-andersen
LOCATION:Statens Værksteder for Kunst\, Strandgade 27B\, København K\, 1401\, Danmark
CATEGORIES:FOYER,FOYER_en
ATTACH;FMTTYPE=image/jpeg:https://svfk.dk/wp-content/uploads/2025/08/IMG_1244-32.jpg
END:VEVENT
BEGIN:VEVENT
DTSTART;TZID=Europe/Copenhagen:20250919T150000
DTEND;TZID=Europe/Copenhagen:20251018T170000
DTSTAMP:20260426T050213
CREATED:20250829T123552Z
LAST-MODIFIED:20250901T111409Z
UID:55454-1758294000-1760806800@svfk.dk
SUMMARY:Udstilling Foyer: Tina Ratzer
DESCRIPTION:My Plant Teacher\n19. sept. – 18. okt. 2025 \n“Projektet handler om at forstå og fejre en plante\, der manifesterer naturens dybe visdom.” Tina Ratzer \nI projektet My Plant Teacher samarbejder tekstildesigner Tina Ratzer med den sydafrikanske plante\, Lobster Bush (Coleus Neochilus). Med udgangspunkt i plantens iboende kvaliteter skaber hun et organisk værk til udstilling i det offentlige rum. \nPå Statens Værksteder har Ratzer undersøgt plantens vibrationer og omsat dem til lyd gennem et elektronisk apparat. Eksperimenterne har dannet grundlag for et værk i et fælles kunstnerisk udtryk\, hvor planten ikke blot er motiv\, men aktiv medskaber. \nSom væver oplever Ratzer spejlinger mellem plantens grafiske målinger og Navajo-vævernes rytmiske opbygning af mønstre – som et ekko af naturens egen vævning. Denne forbindelse har inspireret til mønsterbilledet\, SF 1.0 (Samskabende Forbindelser 1.0). \nRatzer integrerer pt. SF 1.0 under åben himmel på Sydhavnstippen i København SV – et vildt natur- og kulturområde. Først markeres formen med murbrokker (SF 1.1)\, dernæst udgraves og blotlægges jorden (SF 1.2)\, for siden at sås til med frø fra stedsspecifikke planter (SF 1.3). Hvert værk bliver en spejling af plantens mønster og udvikler sig som et organisk udtryk over tid – i dialog med vejr\, dyr og mennesker. Processen udfordrer vante mønstre og åbner for samskabelse med andre arter i den antropocæne tidsalder. \nVærket indvies 4. september 2025 kl. 16.00 og vil forblive på stedet.\nKoordinater: 55°37’60.0″N 12°31’55.3″E \nFernisering i Foyer: 19. september kl. 15.00 – 17.00. Statens Værksteder for Kunst\, Strandgade 27B\, 1401 København K. \n– \nTina Ratzer er uddannet i tekstildesign og vævning fra Designskolen Kolding. I 1999 grundlagde hun Studio Ratzer\, hvorfra hun siden har udviklet tekstildesign\, udsmykninger og offentlige udstillinger. Hendes arbejde er kendetegnet ved en sikker sans for mønster og farve\, ofte geometrisk forankret\, men altid åbent for forandring og nye forbindelser. \nRatzers nuværende praksis udspringer af en fænomenologisk undersøgelse af naturen\, hvor hun udfordrer og udvikler processer\, knyttet til sit håndværk. Essensen er at skabe kunstneriske situationer\, der inviterer til refleksion og forstærker samspillet mellem menneske og natur. Når vi sanser naturen\, sanser vi os selv – men hvad sker der\, når naturen sanser os tilbage?
URL:https://svfk.dk/event/udstilling-foyer-tina-ratzer
LOCATION:Statens Værksteder for Kunst\, Strandgade 27B\, København K\, 1401\, Danmark
CATEGORIES:Event,Event,FOYER,FOYER_en
ATTACH;FMTTYPE=image/jpeg:https://svfk.dk/wp-content/uploads/2025/08/FOYER_MYPLAATTEACHER-scaled.jpg
END:VEVENT
END:VCALENDAR